BEGIN:VCALENDAR
VERSION:2.0
PRODID:-//Aravis médecine - ECPv6.15.11//NONSGML v1.0//EN
CALSCALE:GREGORIAN
METHOD:PUBLISH
X-ORIGINAL-URL:https://www.aravis-medecine.fr
X-WR-CALDESC:Évènements pour Aravis médecine
REFRESH-INTERVAL;VALUE=DURATION:PT1H
X-Robots-Tag:noindex
X-PUBLISHED-TTL:PT1H
BEGIN:VTIMEZONE
TZID:Europe/Paris
BEGIN:DAYLIGHT
TZOFFSETFROM:+0100
TZOFFSETTO:+0200
TZNAME:CEST
DTSTART:20240331T010000
END:DAYLIGHT
BEGIN:STANDARD
TZOFFSETFROM:+0200
TZOFFSETTO:+0100
TZNAME:CET
DTSTART:20241027T010000
END:STANDARD
BEGIN:DAYLIGHT
TZOFFSETFROM:+0100
TZOFFSETTO:+0200
TZNAME:CEST
DTSTART:20250330T010000
END:DAYLIGHT
BEGIN:STANDARD
TZOFFSETFROM:+0200
TZOFFSETTO:+0100
TZNAME:CET
DTSTART:20251026T010000
END:STANDARD
BEGIN:DAYLIGHT
TZOFFSETFROM:+0100
TZOFFSETTO:+0200
TZNAME:CEST
DTSTART:20260329T010000
END:DAYLIGHT
BEGIN:STANDARD
TZOFFSETFROM:+0200
TZOFFSETTO:+0100
TZNAME:CET
DTSTART:20261025T010000
END:STANDARD
END:VTIMEZONE
BEGIN:VEVENT
DTSTART;TZID=Europe/Paris:20250328T133000
DTEND;TZID=Europe/Paris:20250328T170000
DTSTAMP:20260421T173555
CREATED:20241209T132538Z
LAST-MODIFIED:20241211T134147Z
UID:828-1743168600-1743181200@www.aravis-medecine.fr
SUMMARY:Choix des stages : semestre d'été
DESCRIPTION:Choix de stages présentiel à la faculté de médecine de Grenoble pour le semestre de Mai 2025 à Novembre 2025. \nPlus d’informations à venir…
URL:https://www.aravis-medecine.fr/evenement/choix-des-stages-semestre-dete/
LOCATION:Faculté de médecine de Grenoble
CATEGORIES:Formation initiale
END:VEVENT
END:VCALENDAR